BEGIN:VCALENDAR
VERSION:2.0
PRODID:-//EuroVO - ECPv5.3.0//NONSGML v1.0//EN
CALSCALE:GREGORIAN
METHOD:PUBLISH
X-WR-CALNAME:EuroVO
X-ORIGINAL-URL:https://www.euro-vo.org
X-WR-CALDESC:Events for EuroVO
BEGIN:VTIMEZONE
TZID:UTC
BEGIN:STANDARD
TZOFFSETFROM:+0000
TZOFFSETTO:+0000
TZNAME:UTC
DTSTART:20200101T000000
END:STANDARD
END:VTIMEZONE
BEGIN:VEVENT
DTSTART;TZID=UTC:20201108T000000
DTEND;TZID=UTC:20201112T235959
DTSTAMP:20260421T174147
CREATED:20200513T080933Z
LAST-MODIFIED:20200513T080946Z
UID:380-1604793600-1605225599@www.euro-vo.org
SUMMARY:ADASS XXX conference
DESCRIPTION:
URL:https://www.euro-vo.org/event/adass-xxx-conference/
END:VEVENT
BEGIN:VEVENT
DTSTART;TZID=UTC:20201113T000000
DTEND;TZID=UTC:20201115T235959
DTSTAMP:20260421T174147
CREATED:20200513T081020Z
LAST-MODIFIED:20200513T081022Z
UID:382-1605225600-1605484799@www.euro-vo.org
SUMMARY:IVOA interop meeting
DESCRIPTION:
URL:https://www.euro-vo.org/event/ivoa-interop-meeting/
END:VEVENT
END:VCALENDAR